BEGIN:VCALENDAR
VERSION:2.0
PRODID:-//Commune de Zoétele - ECPv6.15.19//NONSGML v1.0//EN
CALSCALE:GREGORIAN
METHOD:PUBLISH
X-ORIGINAL-URL:https://zoetele.cm
X-WR-CALDESC:Évènements pour Commune de Zoétele
REFRESH-INTERVAL;VALUE=DURATION:PT1H
X-Robots-Tag:noindex
X-PUBLISHED-TTL:PT1H
BEGIN:VTIMEZONE
TZID:UTC
BEGIN:STANDARD
TZOFFSETFROM:+0000
TZOFFSETTO:+0000
TZNAME:UTC
DTSTART:20240101T000000
END:STANDARD
END:VTIMEZONE
BEGIN:VTIMEZONE
TZID:Europe/Paris
BEGIN:DAYLIGHT
TZOFFSETFROM:+0100
TZOFFSETTO:+0200
TZNAME:CEST
DTSTART:20240331T010000
END:DAYLIGHT
BEGIN:STANDARD
TZOFFSETFROM:+0200
TZOFFSETTO:+0100
TZNAME:CET
DTSTART:20241027T010000
END:STANDARD
BEGIN:DAYLIGHT
TZOFFSETFROM:+0100
TZOFFSETTO:+0200
TZNAME:CEST
DTSTART:20250330T010000
END:DAYLIGHT
BEGIN:STANDARD
TZOFFSETFROM:+0200
TZOFFSETTO:+0100
TZNAME:CET
DTSTART:20251026T010000
END:STANDARD
BEGIN:DAYLIGHT
TZOFFSETFROM:+0100
TZOFFSETTO:+0200
TZNAME:CEST
DTSTART:20260329T010000
END:DAYLIGHT
BEGIN:STANDARD
TZOFFSETFROM:+0200
TZOFFSETTO:+0100
TZNAME:CET
DTSTART:20261025T010000
END:STANDARD
BEGIN:DAYLIGHT
TZOFFSETFROM:+0100
TZOFFSETTO:+0200
TZNAME:CEST
DTSTART:20270328T010000
END:DAYLIGHT
BEGIN:STANDARD
TZOFFSETFROM:+0200
TZOFFSETTO:+0100
TZNAME:CET
DTSTART:20271031T010000
END:STANDARD
BEGIN:DAYLIGHT
TZOFFSETFROM:+0100
TZOFFSETTO:+0200
TZNAME:CEST
DTSTART:20280326T010000
END:DAYLIGHT
BEGIN:STANDARD
TZOFFSETFROM:+0200
TZOFFSETTO:+0100
TZNAME:CET
DTSTART:20281029T010000
END:STANDARD
BEGIN:DAYLIGHT
TZOFFSETFROM:+0100
TZOFFSETTO:+0200
TZNAME:CEST
DTSTART:20290325T010000
END:DAYLIGHT
BEGIN:STANDARD
TZOFFSETFROM:+0200
TZOFFSETTO:+0100
TZNAME:CET
DTSTART:20291028T010000
END:STANDARD
BEGIN:DAYLIGHT
TZOFFSETFROM:+0100
TZOFFSETTO:+0200
TZNAME:CEST
DTSTART:20300331T010000
END:DAYLIGHT
BEGIN:STANDARD
TZOFFSETFROM:+0200
TZOFFSETTO:+0100
TZNAME:CET
DTSTART:20301027T010000
END:STANDARD
BEGIN:DAYLIGHT
TZOFFSETFROM:+0100
TZOFFSETTO:+0200
TZNAME:CEST
DTSTART:20310330T010000
END:DAYLIGHT
BEGIN:STANDARD
TZOFFSETFROM:+0200
TZOFFSETTO:+0100
TZNAME:CET
DTSTART:20311026T010000
END:STANDARD
END:VTIMEZONE
BEGIN:VEVENT
DTSTART;TZID=UTC:20250620T150000
DTEND;TZID=UTC:20260123T163000
DTSTAMP:20260421T174723
CREATED:20210603T125130Z
LAST-MODIFIED:20250826T135651Z
UID:1212-1750431600-1769185800@zoetele.cm
SUMMARY:Festival Culturel de Zoétélé
DESCRIPTION:Festival Culturel de Zoétélé\n\n\n\n\n\n\n\n\n\n\nSlogan : “Célébrons notre patrimoine ensemble”\nDescription : Un festival annuel mettant en avant la danse\, la musique et l’artisanat locaux.
URL:https://zoetele.cm/event/fete-de-la-jeunesse/
LOCATION:Heaton Park\, Mt Road M25 2SW
ATTACH;FMTTYPE=image/jpeg:https://zoetele.cm/wp-content/uploads/2021/06/festi.jpg
END:VEVENT
BEGIN:VEVENT
DTSTART;VALUE=DATE:20250826
DTEND;VALUE=DATE:20300831
DTSTAMP:20260421T174723
CREATED:20250826T102844Z
LAST-MODIFIED:20250827T002710Z
UID:8399-1756166400-1914364799@zoetele.cm
SUMMARY:Festival des Arts et Cultures
DESCRIPTION:Plateforme dédiée au patrimoine local
URL:https://zoetele.cm/event/festival-des-arts-et-cultures-de-zoetele-facz/
LOCATION:Zoétélé\, Cameroon
CATEGORIES:Evènement
ATTACH;FMTTYPE=image/png:https://zoetele.cm/wp-content/uploads/2025/08/4839356-fotor-2025082722610.png
END:VEVENT
BEGIN:VEVENT
DTSTART;VALUE=DATE:20250826
DTEND;VALUE=DATE:20300831
DTSTAMP:20260421T174723
CREATED:20250826T103149Z
LAST-MODIFIED:20250827T002652Z
UID:8403-1756166400-1914364799@zoetele.cm
SUMMARY:Festival des peuples Fong
DESCRIPTION:
URL:https://zoetele.cm/event/festival-des-peuples-fong/
LOCATION:Zoétélé\, Cameroon
CATEGORIES:Evènement
ATTACH;FMTTYPE=image/png:https://zoetele.cm/wp-content/uploads/2025/08/chefs-traditionn-fotor-2025082722535.png
END:VEVENT
BEGIN:VEVENT
DTSTART;VALUE=DATE:20250826
DTEND;VALUE=DATE:20300831
DTSTAMP:20260421T174723
CREATED:20250826T103344Z
LAST-MODIFIED:20250901T172425Z
UID:8406-1756166400-1914364799@zoetele.cm
SUMMARY:Actions citoyennes
DESCRIPTION:
URL:https://zoetele.cm/event/actions-citoyennes-animations-jerc-a-zoetele/
LOCATION:Zoétélé\, Cameroon
CATEGORIES:Evènement
ATTACH;FMTTYPE=image/webp:https://zoetele.cm/wp-content/uploads/2025/08/AnyConv.com_.webp
END:VEVENT
END:VCALENDAR